BEGIN:VCALENDAR
VERSION:2.0
PRODID:http://www.pfarrei-moselkrampen.de
BEGIN:VEVENT
UID:6b6dd06d-3f23-11f1-a3e9-0242ac11002b-1778171400000-de
DTSTAMP:20260423T144758Z
DTSTART:20260507T163000Z
SUMMARY;LANGUAGE=de:Maiwallfahrt der Frauen in Ernst mit Gang zur Kreuzkapelle, Treffpunkt Kirche
END:VEVENT
END:VCALENDAR
